BEGIN:VCALENDAR
VERSION:2.0
PRODID:-//MotoRenginiai - ECPv6.15.20//NONSGML v1.0//EN
CALSCALE:GREGORIAN
METHOD:PUBLISH
X-WR-CALNAME:MotoRenginiai
X-ORIGINAL-URL:https://beta.motorenginiai.lt
X-WR-CALDESC:MotoRenginiai renginiai
REFRESH-INTERVAL;VALUE=DURATION:PT1H
X-Robots-Tag:noindex
X-PUBLISHED-TTL:PT1H
BEGIN:VTIMEZONE
TZID:Europe/Vilnius
BEGIN:DAYLIGHT
TZOFFSETFROM:+0200
TZOFFSETTO:+0300
TZNAME:EEST
DTSTART:20250330T010000
END:DAYLIGHT
BEGIN:STANDARD
TZOFFSETFROM:+0300
TZOFFSETTO:+0200
TZNAME:EET
DTSTART:20251026T010000
END:STANDARD
BEGIN:DAYLIGHT
TZOFFSETFROM:+0200
TZOFFSETTO:+0300
TZNAME:EEST
DTSTART:20260329T010000
END:DAYLIGHT
BEGIN:STANDARD
TZOFFSETFROM:+0300
TZOFFSETTO:+0200
TZNAME:EET
DTSTART:20261025T010000
END:STANDARD
BEGIN:DAYLIGHT
TZOFFSETFROM:+0200
TZOFFSETTO:+0300
TZNAME:EEST
DTSTART:20270328T010000
END:DAYLIGHT
BEGIN:STANDARD
TZOFFSETFROM:+0300
TZOFFSETTO:+0200
TZNAME:EET
DTSTART:20271031T010000
END:STANDARD
END:VTIMEZONE
BEGIN:VEVENT
DTSTART;TZID=Europe/Vilnius:20260529T100000
DTEND;TZID=Europe/Vilnius:20260529T110000
DTSTAMP:20260422T172848
CREATED:20260422T153543Z
LAST-MODIFIED:20260422T154527Z
UID:2133-1780048800-1780052400@beta.motorenginiai.lt
SUMMARY:Šilutės Miesto Šventės Eisena
DESCRIPTION:Šilutės miesto šventės eisena – tai vienas ryškiausių ir labiausiai laukiamų renginių\, suburiantis miesto bendruomenę\, svečius bei įvairias organizacijas į bendrą šventinį žygį miesto gatvėmis. Renginys išsiskiria savo spalvingumu\, gera nuotaika ir bendruomeniškumo dvasia\, kuri kasmet pritraukia vis daugiau dalyvių ir žiūrovų. \nEisenos metu dalyviai turi galimybę pristatyti save\, savo veiklą ar pomėgius\, o žiūrovai gali mėgautis išskirtiniais vaizdais\, muzika ir šventine atmosfera. Tai puiki proga ne tik švęsti\, bet ir stiprinti ryšius tarp skirtingų bendruomenių bei miestų. \nĮ šią eiseną kviečiami prisijungti visi motociklininkai. Nesvarbu\, ar važiuojate individualiai\, ar su grupe – kiekvienas yra laukiamas tapti šio renginio dalimi. Tai puiki galimybė parodyti savo motociklus\, susipažinti su bendraminčiais ir kartu atstovauti moto kultūrai. \nDalyvavimas eisenoje suteikia progą ne tik būti matomiems\, bet ir patirti bendrystę\, kuri vienija motociklų entuziastus iš skirtingų miestų ir net šalių. Šilutės miesto šventės eisena – tai ne tik renginys\, bet ir patirtis\, kuri palieka ilgalaikius įspūdžius.
URL:https://beta.motorenginiai.lt/renginys/silutes-miesto-sventes-eisena/
LOCATION:Dar neaišku\, Dar neaišku\, Šilutė\, Lietuva\, Lithuania
CATEGORIES:Renginiai
ATTACH;FMTTYPE=image/png:https://beta.motorenginiai.lt/wp-content/uploads/2026/04/Banneris.png
ORGANIZER;CN="MotoRenginiai":MAILTO:info@motorenginiai.lt
END:VEVENT
END:VCALENDAR